BEGIN:VCALENDAR
VERSION:2.0
PRODID:-//Squarespace Inc/Squarespace 6//v6//EN
BEGIN:VEVENT
UID:5901c638414fb5a450afe9f8@squarespace.com
DTSTAMP:20170427T102457Z
DTSTART:20170519T210000Z
DTEND:20170520T040000Z
SUMMARY:Kings of War Tournament
END:VEVENT
END:VCALENDAR
