BEGIN:VCALENDAR
VERSION:2.0
PRODID:-//Squarespace Inc/Squarespace 6//v6//EN
BEGIN:VEVENT
UID:58fdd1736b8f5b0fe3bd0a84@squarespace.com
DTSTAMP:20170424T102340Z
DTSTART:20170428T210000Z
DTEND:20170429T050000Z
SUMMARY:Club Meeting
END:VEVENT
END:VCALENDAR
