BEGIN:VCALENDAR
VERSION:2.0
PRODID:-//Squarespace Inc/Squarespace 6//v6//EN
BEGIN:VEVENT
UID:588183a8bebafbcb337aab3e@squarespace.com
DTSTAMP:20170120T053914Z
DTSTART:20170303T200000Z
DTEND:20170304T040000Z
SUMMARY:Club Meeting
END:VEVENT
END:VCALENDAR
