BEGIN:VCALENDAR
VERSION:2.0
PRODID:-//Squarespace Inc/Squarespace 6//v6//EN
BEGIN:VEVENT
UID:5881831420099e47b8f95ee0@squarespace.com
DTSTAMP:20170120T053826Z
DTSTART:20170203T200000Z
DTEND:20170204T040000Z
SUMMARY:Club Meeting
END:VEVENT
END:VCALENDAR
