BEGIN:VCALENDAR
VERSION:2.0
PRODID:-//Squarespace Inc/Squarespace 6//v6//EN
BEGIN:VEVENT
UID:58818376f7e0ab55271f6805@squarespace.com
DTSTAMP:20170120T053855Z
DTSTART:20170217T200000Z
DTEND:20170218T040000Z
SUMMARY:Club Meeting
END:VEVENT
END:VCALENDAR
