BEGIN:VCALENDAR
VERSION:2.0
PRODID:-//Squarespace Inc/Squarespace 6//v6//EN
BEGIN:VEVENT
UID:58817f53ff7c50bd3752f57f@squarespace.com
DTSTAMP:20170120T053804Z
DTSTART:20170120T200000Z
DTEND:20170121T040000Z
SUMMARY:Club Meeting
END:VEVENT
END:VCALENDAR
